BEGIN:VCALENDAR
VERSION:2.0
PRODID:-//hacksw/handcal//NONSGML v1.0//EN
BEGIN:VEVENT
DTSTART:20260507
DTEND:20260508
LOCATION:Commune de Monswiller
SUMMARY:Ateliers théâtre
URL:https://www.monswiller.fr/Agenda/Ateliers-theatre-00205.html
END:VEVENT
END:VCALENDAR