BEGIN:VCALENDAR
VERSION:2.0
PRODID:-//hacksw/handcal//NONSGML v1.0//EN
BEGIN:VEVENT
DTSTART:20260505
DTEND:20260506
LOCATION:Commune de Monswiller
SUMMARY:Bricothèque
DESCRIPTION:https://www.monswiller.fr/Agenda/Bricotheque-00226.html
END:VEVENT
END:VCALENDAR