BEGIN:VCALENDAR
VERSION:2.0
PRODID:-//hacksw/handcal//NONSGML v1.0//EN
BEGIN:VEVENT
DTSTART:20260423
DTEND:20260425
LOCATION:Commune de Monswiller
SUMMARY:Fermeture exceptionnelle du cimetière
URL:https://www.monswiller.fr/Agenda/Fermeture-exceptionnelle-cimetiere-01028.html
END:VEVENT
END:VCALENDAR