BEGIN:VCALENDAR
VERSION:2.0
PRODID:-//hacksw/handcal//NONSGML v1.0//EN
BEGIN:VEVENT
DTSTART:20260421
DTEND:20260701
LOCATION:Commune de Monswiller
SUMMARY:Médecins Sans Frontières
URL:https://www.monswiller.fr/Agenda/Medecins-Sans-Frontieres-01029.html
END:VEVENT
END:VCALENDAR