BEGIN:VCALENDAR
VERSION:2.0
PRODID:-//hacksw/handcal//NONSGML v1.0//EN
BEGIN:VEVENT
DTSTART:20260530
DTEND:20260531
LOCATION:Commune de Monswiller
SUMMARY:Spectacle de Romain Doduik
DESCRIPTION:https://www.monswiller.fr/Agenda/Spectacle-Romain-Doduik-00948.html
END:VEVENT
END:VCALENDAR